BEGIN:VCALENDAR
VERSION:2.0
PRODID:-//ChamberMaster//Event Calendar 2.0//EN
METHOD:PUBLISH
X-PUBLISHED-TTL:P3D
REFRESH-INTERVAL:P3D
CALSCALE:GREGORIAN
BEGIN:VEVENT
DTSTART:20170602T180000Z
DTEND:20170602T190000Z
X-MICROSOFT-CDO-ALLDAYEVENT:FALSE
SUMMARY:Ribbon Cutting for Farmers Daughters Etc.
DESCRIPTION:Our newest consignment shop\, Farmers Daughters Etc.\, located at 3347 Hwy 515\, East (across from the Blairsville Cinema) will be having a ribbon cutting.  The community is invited to come and meet Cindy and Candy and see all of their hand-made products\, clothing\, accessories\, and more!
X-ALT-DESC;FMTTYPE=text/html:Our newest consignment shop\, Farmers Daughters Etc.\, located at 3347 Hwy 515\, East (across from the Blairsville Cinema) will be having a ribbon cutting.&nbsp\; The community is invited to come and meet Cindy and Candy and see all of their hand-made products\, clothing\, accessories\, and more!
LOCATION:3347 Hwy 515\, East Across from the Blairsville Cinema
UID:e.256.70006
SEQUENCE:3
DTSTAMP:20260419T233030Z
URL:https://members.visitblairsvillega.com/events/details/ribbon-cutting-for-farmers-daughters-etc-70006
END:VEVENT

END:VCALENDAR
