BEGIN:VCALENDAR
VERSION:2.0
PRODID:-//ChamberMaster//Event Calendar 2.0//EN
METHOD:PUBLISH
X-PUBLISHED-TTL:P3D
REFRESH-INTERVAL:P3D
CALSCALE:GREGORIAN
BEGIN:VEVENT
DTSTART:20140314T180000Z
DTEND:20140314T190000Z
X-MICROSOFT-CDO-ALLDAYEVENT:FALSE
SUMMARY:Ribbon Cutting for Firm Answers Now
DESCRIPTION:Please join the chamber for a ribbon cutting on Friday\, March 14th at 2:00pm for a new member\, Firm Answers Now. The ribbon cutting will be held at the chamber office\, located at the Union County Community Center. Be sure and visit their website: www.FirmAnswersNow.com to learn more about our newest member.
X-ALT-DESC;FMTTYPE=text/html:Please join the chamber for a ribbon cutting on Friday\, March 14th at 2:00pm for a new member\, Firm Answers Now. The ribbon cutting will be held&nbsp\;at the chamber office\, located at the Union County Community Center. Be sure and visit their website: www.FirmAnswersNow.com to learn more about our newest member.
LOCATION:Blairsville Union County Chamber of Commerce 129 Union County Rec Rd. Blairsville\, GA
UID:e.256.22999
SEQUENCE:3
DTSTAMP:20260424T152400Z
URL:https://members.visitblairsvillega.com/events/details/ribbon-cutting-for-firm-answers-now-03-14-2014-22999
END:VEVENT

END:VCALENDAR
