BEGIN:VCALENDAR
VERSION:2.0
PRODID:-//ChamberMaster//Event Calendar 2.0//EN
METHOD:PUBLISH
X-PUBLISHED-TTL:P3D
REFRESH-INTERVAL:P3D
CALSCALE:GREGORIAN
BEGIN:VEVENT
DTSTART:20140722T140000Z
DTEND:20140722T150000Z
X-MICROSOFT-CDO-ALLDAYEVENT:FALSE
SUMMARY:Ribbon Cutting for Formal Elegance Hair and Makeup Studio
DESCRIPTION:You're Invited!\n\nRibbon Cutting for Formal Elegance Hair and Makeup Studio on Tuesday\, July 22\, 2014 at 10:00am here at the Chamber of Commerce\, located in the Union County Community Center. Come meet Linda Phelps and find out about Younique. www.divalashious.com\n\nYounique\, the first direct-sales company to market and sell almost exclusively through the use of social media. Our pioneered Younique Virtual Parties bridge the huge world of social media and the traditional home-party business model.
X-ALT-DESC;FMTTYPE=text/html:You&#39\;re Invited!<br />\nRibbon Cutting for Formal Elegance Hair and Makeup Studio on Tuesday\, July 22\, 2014 at&nbsp\;10:00am&nbsp\;here at the Chamber of Commerce\, located in the Union County Community Center. Come meet Linda Phelps and find out about Younique. <u><em><strong>www.divalashious.com</strong></em></u><br />\nYounique\, the first direct-sales company to market and sell almost exclusively through the use of social media. Our pioneered Younique Virtual Parties bridge the huge world of social media and the traditional home-party business model.<br />\n<br />\n&nbsp\;
LOCATION:Union County Chamber of Commerce\, located in the Union County Community Center 129 Union County Rec Rd Blairsville
UID:e.256.24919
SEQUENCE:3
DTSTAMP:20260424T105350Z
URL:https://members.visitblairsvillega.com/events/details/ribbon-cutting-for-formal-elegance-hair-and-makeup-studio-07-22-2014-24919
END:VEVENT

END:VCALENDAR
