BEGIN:VCALENDAR
VERSION:2.0
PRODID:-//ChamberMaster//Event Calendar 2.0//EN
METHOD:PUBLISH
X-PUBLISHED-TTL:P3D
REFRESH-INTERVAL:P3D
CALSCALE:GREGORIAN
BEGIN:VEVENT
DTSTART:20161019T173000Z
DTEND:20161019T183000Z
X-MICROSOFT-CDO-ALLDAYEVENT:FALSE
SUMMARY:Ribbon Cutting for Friends of Union County Library
DESCRIPTION:Artist Sculptor\, Al Garnto\, has made another wonderful work of art for our community.  To celebration this event\, the Blairsville-Union County Chamber of Commerce will be hosting a ribbon cutting for the Friends of the Union County Library on Wednesday\, October 19\, 2016\, at 1:30 p.m.  The celebration will take place at the Union County Library and everyone is invited.
X-ALT-DESC;FMTTYPE=text/html:Artist Sculptor\, Al Garnto\, has made another wonderful work of art for our community.&nbsp\; To celebration this event\, the Blairsville-Union County Chamber of Commerce will be hosting a ribbon cutting for the Friends of the Union County Library on Wednesday\, October 19\, 2016\, at 1:30 p.m.&nbsp\; The celebration will take place at the Union County Library and everyone is invited.
LOCATION:Union County Library 303 Hunt Martin Street Blairsville\, GA 30512
UID:e.256.58160
SEQUENCE:3
DTSTAMP:20260420T131615Z
URL:https://members.visitblairsvillega.com/events/details/ribbon-cutting-for-friends-of-union-county-library-58160
END:VEVENT

END:VCALENDAR
