BEGIN:VCALENDAR
VERSION:2.0
PRODID:-//ChamberMaster//Event Calendar 2.0//EN
METHOD:PUBLISH
X-PUBLISHED-TTL:P3D
REFRESH-INTERVAL:P3D
CALSCALE:GREGORIAN
BEGIN:VEVENT
DTSTART:20141106T210000Z
DTEND:20141106T220000Z
X-MICROSOFT-CDO-ALLDAYEVENT:FALSE
SUMMARY:Ribbon Cutting for From Me 2 U
DESCRIPTION:You're Invited!  A Re - Grand Opening and Ribbon Cutting!\n\nRibbon Cutting for From Me 2 U on Thursday\, November 6 2014 at 4:00pm.\n\nFrom Me 2 U has moved to their new location at 6B Town Square in the renovated Kings 5 & 10 downtown Blairsville. They are excited about their move and would like for everyone to come see all the new items for great gift ideas or maybe something for a me gift!\n\nBring your business cards.\n\n2 Door Prizes - $25 Gift Certificates\n\nGift with minimum purchase
X-ALT-DESC;FMTTYPE=text/html:<span style="font-family: tahoma\;"><span style="font-size: 12px\;">You&#39\;re Invited!&nbsp\; A Re - Grand Opening and Ribbon Cutting!<br />\nRibbon Cutting for&nbsp\;From Me&nbsp\;2&nbsp\;U&nbsp\;on Thursday\, November 6&nbsp\;2014 at 4:00pm.<br />\nFrom Me&nbsp\;2 U has moved to their new location&nbsp\;at 6B Town Square in&nbsp\;the renovated Kings 5 &amp\; 10 downtown Blairsville. They are excited about their move and would like for everyone to come see all the new items for great gift ideas or maybe something for a me gift!<br />\nBring your business cards.<br />\n2 Door Prizes - $25 Gift Certificates<br />\nGift with minimum purchase</span></span>
LOCATION:From Me 2 U 6 B Town Square Blairsville\, GA
UID:e.256.27648
SEQUENCE:3
DTSTAMP:20260424T033540Z
URL:https://members.visitblairsvillega.com/events/details/ribbon-cutting-for-from-me-2-u-11-06-2014-27648
END:VEVENT

END:VCALENDAR
