BEGIN:VCALENDAR
VERSION:2.0
PRODID:-//ChamberMaster//Event Calendar 2.0//EN
METHOD:PUBLISH
X-PUBLISHED-TTL:P3D
REFRESH-INTERVAL:P3D
CALSCALE:GREGORIAN
BEGIN:VEVENT
DTSTART:20140320T150000Z
DTEND:20140320T160000Z
X-MICROSOFT-CDO-ALLDAYEVENT:FALSE
SUMMARY:Ribbon Cutting for GA Mountain Lawn Services
DESCRIPTION:You're Invited!\n\nJoin the Chamber for a ribbon cutting for GA Mountain Lawn Services Thursday\, March 20th at 11am.The ribbon cutting will be held at the Chamber of Commerce\, located at the Union County Community Center. Come celebrate Gino's business and wish him a Happy Birthday!\n\nDoor Prizes/Light Refreshments
X-ALT-DESC;FMTTYPE=text/html:You&#39\;re Invited!<br />\nJoin the Chamber for a ribbon cutting for GA Mountain Lawn Services Thursday\, March 20th&nbsp\;at 11am.The ribbon cutting will be held&nbsp\;at the&nbsp\;Chamber of Commerce\, located at the Union County Community Center. Come celebrate Gino&#39\;s business and wish him a Happy Birthday!<br />\nDoor Prizes/Light Refreshments<br />\n<br />\n<br />\n&nbsp\;
LOCATION:Blairsville Union County Chamber of Commerce\, located inside the Union County Community Center 129 Union County Rec Rd Blairsville\, GA
UID:e.256.23319
SEQUENCE:3
DTSTAMP:20260424T165210Z
URL:https://members.visitblairsvillega.com/events/details/ribbon-cutting-for-ga-mountain-lawn-services-03-20-2014-23319
END:VEVENT

END:VCALENDAR
