BEGIN:VCALENDAR
VERSION:2.0
PRODID:-//ChamberMaster//Event Calendar 2.0//EN
METHOD:PUBLISH
X-PUBLISHED-TTL:P3D
REFRESH-INTERVAL:P3D
CALSCALE:GREGORIAN
BEGIN:VEVENT
DTSTART:20171004T140000Z
DTEND:20171004T150000Z
X-MICROSOFT-CDO-ALLDAYEVENT:FALSE
SUMMARY:Ribbon Cutting for Gene Rutkowski
DESCRIPTION:A ribbon cutting celebration will be held for Gene Rutkowski\, Realtor. Gene Rutkowski\, Realtor is a full service real estate company specializing in the North Georgia and East Tennessee areas.  Everyone is invited to meet Gene Rutkowski.
X-ALT-DESC;FMTTYPE=text/html:<span style="font-size:12pt\;"><span style="font-family:calibri light\,sans-serif\;">A ribbon cutting celebration will be held for <em>Gene Rutkowski\, Realtor</em>. <em>Gene Rutkowski\, Realtor </em>is a </span></span><span style="font-size:12pt\;"><span style="font-family:calibri light\,sans-serif\;">full service real estate company specializing in the North Georgia and East Tennessee areas.&nbsp\; </span></span><span style="font-size:12pt\;"><span style="font-family:calibri light\,sans-serif\;">Everyone is invited to meet Gene Rutkowski.</span></span>
LOCATION:Blairsville-Union County Chamber of Commerce 129 Union County Recreation Road Blairsville\, GA 30512
UID:e.256.75779
SEQUENCE:3
DTSTAMP:20260419T175312Z
URL:https://members.visitblairsvillega.com/events/details/ribbon-cutting-for-gene-rutkowski-75779
END:VEVENT

END:VCALENDAR
