BEGIN:VCALENDAR
VERSION:2.0
PRODID:-//ChamberMaster//Event Calendar 2.0//EN
METHOD:PUBLISH
X-PUBLISHED-TTL:P3D
REFRESH-INTERVAL:P3D
CALSCALE:GREGORIAN
BEGIN:VEVENT
DTSTART:20170306T180000Z
DTEND:20170306T190000Z
X-MICROSOFT-CDO-ALLDAYEVENT:FALSE
SUMMARY:Ribbon Cutting for Georgia Mountain Pregnancy Center
DESCRIPTION:The community is invited to attend the opening of the Georgia Mountain Pregnancy Center.  The Chamber of Commerce will be hosting a ribbon cutting and refreshments will be served.  Executive Director\, Kathy Davis\, will be on hand to answer questions and share information about the center.
X-ALT-DESC;FMTTYPE=text/html:The community is invited to attend the opening of the Georgia Mountain Pregnancy Center.&nbsp\; The Chamber of Commerce will be hosting a ribbon cutting and refreshments will be served.&nbsp\; Executive Director\, Kathy Davis\, will be on hand to answer questions and share information about the center.
LOCATION:411 Hwy 515\, Ste. F Blairsville\, GA 30512
UID:e.256.65473
SEQUENCE:3
DTSTAMP:20260420T043208Z
URL:https://members.visitblairsvillega.com/events/details/ribbon-cutting-for-georgia-mountain-pregnancy-center-65473
END:VEVENT

END:VCALENDAR
