BEGIN:VCALENDAR
VERSION:2.0
PRODID:-//ChamberMaster//Event Calendar 2.0//EN
METHOD:PUBLISH
X-PUBLISHED-TTL:P3D
REFRESH-INTERVAL:P3D
CALSCALE:GREGORIAN
BEGIN:VEVENT
DTSTART:20140618T150000Z
DTEND:20140618T160000Z
X-MICROSOFT-CDO-ALLDAYEVENT:FALSE
SUMMARY:Ribbon Cutting for Gift Baskets of Joy and Mary Kay Cosmetics - Roberta L. Ford
DESCRIPTION:You're Invited\n\nRibbon cutting celebration for Gift Baskets of Joy and Mary Kay Cosmetics - Roberta L. Ford. The event will take place at her studio on Wednesday\, June 18th at 11:00am. Directions: From town take the old Blue Ridge Hwy 7 miles\, turn right onto Bunkerhill Rd follow signs to "mk studio")
X-ALT-DESC;FMTTYPE=text/html:<strong>You&#39\;re Invited</strong><br />\nRibbon cutting celebration for Gift Baskets of Joy and Mary Kay Cosmetics - Roberta L. Ford. The event will take place at her studio on Wednesday\, June 18th at 11:00am. Directions: <span style="font-family: verdana\;">From town take the old Blue Ridge Hwy 7 miles\, turn right onto Bunkerhill Rd follow signs to &quot\;mk studio&quot\;)</span>
LOCATION:Mary Kay Cosmetics - Roberta L. Ford 214 Ford Road (From town take the old Blue Ridge Hwy 7 miles\, turn right onto Bunkerhill Rd follow signs to "mk studio") Blairsville\, GA
UID:e.256.24474
SEQUENCE:3
DTSTAMP:20260424T123053Z
URL:https://members.visitblairsvillega.com/events/details/ribbon-cutting-for-gift-baskets-of-joy-and-mary-kay-cosmetics-roberta-l-ford-06-18-2014-24474
END:VEVENT

END:VCALENDAR
