BEGIN:VCALENDAR
VERSION:2.0
PRODID:-//ChamberMaster//Event Calendar 2.0//EN
METHOD:PUBLISH
X-PUBLISHED-TTL:P3D
REFRESH-INTERVAL:P3D
CALSCALE:GREGORIAN
BEGIN:VEVENT
DTSTART:20160509T150000Z
DTEND:20160509T160000Z
X-MICROSOFT-CDO-ALLDAYEVENT:FALSE
SUMMARY:Ribbon Cutting for Goldrush School of Music
DESCRIPTION:The Goldrush School of Music will be celebrating their business opening with a ribbon cutting hosted by the Blairsville-Union County Chamber of Commerce.  Come and meet Eric Myers and find out about all of the musical learnings that are available. A 30% discount for your first month is available for all attending this event.
X-ALT-DESC;FMTTYPE=text/html:The Goldrush School of Music will be celebrating their business opening with a ribbon cutting hosted by the Blairsville-Union County Chamber of Commerce.&nbsp\; Come and meet Eric Myers and find out about all of the musical learnings that are available. A 30% discount for your first month is available for all attending this event.
LOCATION:Goldrush School of Music 51 Earnest St.\, Ste. C Blairsville\, GA 30512
UID:e.256.50538
SEQUENCE:3
DTSTAMP:20260420T223418Z
URL:https://members.visitblairsvillega.com/events/details/ribbon-cutting-for-goldrush-school-of-music-05-09-2016-50538
END:VEVENT

END:VCALENDAR
