BEGIN:VCALENDAR
VERSION:2.0
PRODID:-//ChamberMaster//Event Calendar 2.0//EN
METHOD:PUBLISH
X-PUBLISHED-TTL:P3D
REFRESH-INTERVAL:P3D
CALSCALE:GREGORIAN
BEGIN:VEVENT
DTSTART:20160726T190000Z
DTEND:20160726T200000Z
X-MICROSOFT-CDO-ALLDAYEVENT:FALSE
SUMMARY:Ribbon Cutting for Great Greek Gyro Wraps
DESCRIPTION:A ribbon cutting will be held for Great Greek Gyro Wraps. Everyone is invited to come out and meet owner Eleni Jarrett and find out what great Greek food is all about!
X-ALT-DESC;FMTTYPE=text/html:A ribbon cutting will be held for Great Greek Gyro Wraps.&nbsp\;Everyone is invited to come out and meet owner Eleni Jarrett and find out what great Greek&nbsp\;food is all about!
LOCATION:513 E. Murphy Highway Blairsville\, GA 30512
UID:e.256.53017
SEQUENCE:3
DTSTAMP:20260420T203329Z
URL:https://members.visitblairsvillega.com/events/details/ribbon-cutting-for-great-greek-gyro-wraps-07-26-2016-53017
END:VEVENT

END:VCALENDAR
