BEGIN:VCALENDAR
VERSION:2.0
PRODID:-//ChamberMaster//Event Calendar 2.0//EN
METHOD:PUBLISH
X-PUBLISHED-TTL:P3D
REFRESH-INTERVAL:P3D
CALSCALE:GREGORIAN
BEGIN:VEVENT
DTSTART:20151118T190000Z
DTEND:20151118T200000Z
X-MICROSOFT-CDO-ALLDAYEVENT:FALSE
SUMMARY:Ribbon Cutting for Green Healing Beauty
DESCRIPTION:Great Healing Beauty\, a new business in beautiful Blairsville\, will be celebrating with a ribbon cutting.  Everyone is invited to come and meet Dina Varlamova and find out about the healthy and helpful services she will be offering.  Be sure to bring your business cards as Dina will be raffling a gift certificate for services and offering FREE 30-minute introductory information sessions for everyone there!
X-ALT-DESC;FMTTYPE=text/html:Great Healing Beauty\, a new business in beautiful Blairsville\, will be celebrating with a ribbon cutting.&nbsp\; Everyone is invited to come and meet Dina Varlamova and find out about the healthy and helpful services she will be offering.&nbsp\; Be sure to bring your business cards as Dina will be raffling a gift certificate for services and offering FREE 30-minute introductory information sessions for everyone there!
LOCATION:98 Cleveland Street Blairsville\, GA 30512
UID:e.256.44330
SEQUENCE:3
DTSTAMP:20260423T085701Z
URL:https://members.visitblairsvillega.com/events/details/ribbon-cutting-for-green-healing-beauty-11-18-2015-44330
END:VEVENT

END:VCALENDAR
