BEGIN:VCALENDAR
VERSION:2.0
PRODID:-//ChamberMaster//Event Calendar 2.0//EN
METHOD:PUBLISH
X-PUBLISHED-TTL:P3D
REFRESH-INTERVAL:P3D
CALSCALE:GREGORIAN
BEGIN:VEVENT
DTSTART:20160822T200000Z
DTEND:20160822T210000Z
X-MICROSOFT-CDO-ALLDAYEVENT:FALSE
SUMMARY:Ribbon Cutting for Gregg Marco / Re/Max Town & Country
DESCRIPTION:Realtor Gregg Marco with Re/Max Town & Country will be having a ribbon cutting at the Chamber office.
X-ALT-DESC;FMTTYPE=text/html:Realtor Gregg Marco with Re/Max Town &amp\; Country will be having a ribbon cutting at the Chamber office.&nbsp\;
LOCATION:Re/Max Town & Country 253 E. Highway 515\, Suite B & C Blairsville\, GA 30512
UID:e.256.54491
SEQUENCE:3
DTSTAMP:20260420T165211Z
URL:https://members.visitblairsvillega.com/events/details/ribbon-cutting-for-gregg-marco-re-max-town-country-08-22-2016-54491
END:VEVENT

END:VCALENDAR
