BEGIN:VCALENDAR
VERSION:2.0
PRODID:-//ChamberMaster//Event Calendar 2.0//EN
METHOD:PUBLISH
X-PUBLISHED-TTL:P3D
REFRESH-INTERVAL:P3D
CALSCALE:GREGORIAN
BEGIN:VEVENT
DTSTART:20170425T190000Z
DTEND:20170425T200000Z
X-MICROSOFT-CDO-ALLDAYEVENT:FALSE
SUMMARY:Ribbon Cutting for Hamilton Gardens at Lake Chatuge
DESCRIPTION:The Hamilton Gardens at Lake Chatuge will be having a ribbon cutting on Tuesday\, April 25 at 3 p.m.  Everyone is invited to attend and enjoy this beautifully designed botanical garden located at 1143 Music Hall Road (Georgia Mountain Fairgrounds) in Hiawassee.  Light refreshments will be served.
X-ALT-DESC;FMTTYPE=text/html:The Hamilton Gardens at Lake Chatuge will be having a ribbon cutting on Tuesday\, April 25 at 3 p.m.&nbsp\; Everyone is invited to attend and enjoy this beautifully designed botanical garden located at 1143 Music Hall Road (Georgia Mountain Fairgrounds) in Hiawassee.&nbsp\; Light refreshments will be served.
LOCATION:Hamilton Gardens at Lake Chatuge 1143 Music Hall Road Hiawassee\, GA (located next to the Georgia Mountain Fairgrounds)
UID:e.256.62171
SEQUENCE:3
DTSTAMP:20260420T024520Z
URL:https://members.visitblairsvillega.com/events/details/ribbon-cutting-for-hamilton-gardens-at-lake-chatuge-62171
END:VEVENT

END:VCALENDAR
