BEGIN:VCALENDAR
VERSION:2.0
PRODID:-//ChamberMaster//Event Calendar 2.0//EN
METHOD:PUBLISH
X-PUBLISHED-TTL:P3D
REFRESH-INTERVAL:P3D
CALSCALE:GREGORIAN
BEGIN:VEVENT
DTSTART:20150617T150000Z
DTEND:20150617T160000Z
X-MICROSOFT-CDO-ALLDAYEVENT:FALSE
SUMMARY:Ribbon Cutting for Haralson-Carr Law
DESCRIPTION:Union County Historical Society invites you to join us for light refreshment and tour the newly renovated Haralson -Carr Law.\n\nRefreshments will be served in the Union County   Historical Lobby.  Please call 706-745-5493 for any questions.
X-ALT-DESC;FMTTYPE=text/html:Union County Historical Society invites you to join us for&nbsp\;light refreshment and tour the newly renovated Haralson -Carr&nbsp\;Law.<br />\nRefreshments will be served in the Union County&nbsp\;&nbsp\; Historical Lobby.&nbsp\; Please call 706-745-5493 for any questions.
LOCATION:29 Pat Haralson Rd. Blairsville\, Ga.
UID:e.256.40348
SEQUENCE:3
DTSTAMP:20260423T165705Z
URL:https://members.visitblairsvillega.com/events/details/ribbon-cutting-for-haralson-carr-law-06-17-2015-40348
END:VEVENT

END:VCALENDAR
