BEGIN:VCALENDAR
VERSION:2.0
PRODID:-//ChamberMaster//Event Calendar 2.0//EN
METHOD:PUBLISH
X-PUBLISHED-TTL:P3D
REFRESH-INTERVAL:P3D
CALSCALE:GREGORIAN
BEGIN:VEVENT
DTSTART:20160419T180000Z
DTEND:20160419T190000Z
X-MICROSOFT-CDO-ALLDAYEVENT:FALSE
SUMMARY:Ribbon Cutting for Hayes Appliances
DESCRIPTION:The Blairsville-Union County Chamber of Commerce will be having a ribbon cutting for Hayes Appliances\, located just next door to Made With Love Marketplace.  Owner\, Michael Hayes\, is inviting everyone to drop on by for the celebration\, and everyone who attends will receive a coupon for 10% off a service call or parts purchase OR FREE delivery with an appliance purchase.
X-ALT-DESC;FMTTYPE=text/html:The Blairsville-Union County Chamber of Commerce will be having a ribbon cutting for Hayes Appliances\, located just next door to&nbsp\;Made With Love Marketplace.&nbsp\; Owner\,&nbsp\;Michael Hayes\, is inviting everyone to drop on by for the celebration\, and everyone who attends will receive a coupon for 10% off a service call or parts purchase OR&nbsp\;FREE delivery with an appliance purchase.
LOCATION:32 B Young Harris Street Blairsville\, GA 30512
UID:e.256.48318
SEQUENCE:3
DTSTAMP:20260421T002612Z
URL:https://members.visitblairsvillega.com/events/details/ribbon-cutting-for-hayes-appliances-04-19-2016-48318
END:VEVENT

END:VCALENDAR
