BEGIN:VCALENDAR
VERSION:2.0
PRODID:-//ChamberMaster//Event Calendar 2.0//EN
METHOD:PUBLISH
X-PUBLISHED-TTL:P3D
REFRESH-INTERVAL:P3D
CALSCALE:GREGORIAN
BEGIN:VEVENT
DTSTART:20170807T150000Z
DTEND:20170807T160000Z
X-MICROSOFT-CDO-ALLDAYEVENT:FALSE
SUMMARY:Ribbon Cutting for Healthy Smiles by Dr. B
DESCRIPTION:A ribbon cutting celebration will be held for Healthy Smiles by Dr. B.  Everyone is invited to come meet Dr. Denis Bourguignon known by his patients and employees as Dr. B to discover how he can give you the healthy\, confident smile you've always wanted!
X-ALT-DESC;FMTTYPE=text/html:<span style="font-size:11pt\;"><span style="font-family:calibri\,sans-serif\;">A ribbon cutting celebration will be held for <em>Healthy Smiles by Dr. B</em>.&nbsp\; Everyone is invited to come meet Dr. Denis Bourguignon&mdash\;known by his patients and employees as Dr. B&mdash\;to discover how he can give you the healthy\, confident smile you&rsquo\;ve always wanted!</span></span>
LOCATION:Blairsville-Union County Chamber of Commerce 129 Union County Recreation Rd Blairsville\, GA 30512
UID:e.256.75273
SEQUENCE:3
DTSTAMP:20260419T195241Z
URL:https://members.visitblairsvillega.com/events/details/ribbon-cutting-for-healthy-smiles-by-dr-b-75273
END:VEVENT

END:VCALENDAR
