BEGIN:VCALENDAR
VERSION:2.0
PRODID:-//ChamberMaster//Event Calendar 2.0//EN
METHOD:PUBLISH
X-PUBLISHED-TTL:P3D
REFRESH-INTERVAL:P3D
CALSCALE:GREGORIAN
BEGIN:VEVENT
DTSTART:20151116T173000Z
DTEND:20151116T183000Z
X-MICROSOFT-CDO-ALLDAYEVENT:FALSE
SUMMARY:Ribbon Cutting for Hearing Solutions of North Georgia
DESCRIPTION:Hearing Solutions of North Georgia has opened their doors as a new business in Blairsville and will be celebrating with a ribbon cutting!
X-ALT-DESC;FMTTYPE=text/html:Hearing Solutions of North Georgia has opened their doors as a new business in Blairsville and will be celebrating with&nbsp\;a ribbon cutting!
LOCATION:63 Plott Street\, Unit D Blairsville\, GA 30512 (Log cabin building near Chick-Fil-A)
UID:e.256.44329
SEQUENCE:3
DTSTAMP:20260423T085804Z
URL:https://members.visitblairsvillega.com/events/details/ribbon-cutting-for-hearing-solutions-of-north-georgia-11-16-2015-44329
END:VEVENT

END:VCALENDAR
