BEGIN:VCALENDAR
VERSION:2.0
PRODID:-//ChamberMaster//Event Calendar 2.0//EN
METHOD:PUBLISH
X-PUBLISHED-TTL:P3D
REFRESH-INTERVAL:P3D
CALSCALE:GREGORIAN
BEGIN:VEVENT
DTSTART:20160628T170000Z
DTEND:20160628T180000Z
X-MICROSOFT-CDO-ALLDAYEVENT:FALSE
SUMMARY:Ribbon Cutting for Hillcrest Clinic\, LLC.
DESCRIPTION:The staff of Hillcrest Clinic LLC invites the community to come to celebrate their new location with a ribbon cutting. Hillcrest Clinic provides many health services to our community. Refreshments will be provided.
X-ALT-DESC;FMTTYPE=text/html:The staff of Hillcrest Clinic LLC invites the community to come to celebrate their new location with a ribbon cutting. Hillcrest Clinic provides many health services to our community. Refreshments will be provided.
LOCATION:Hillcrest Clinic\, LLC. 15 Ernest St. Blairsville\, GA. 30512
UID:e.256.51233
SEQUENCE:3
DTSTAMP:20260420T204018Z
URL:https://members.visitblairsvillega.com/events/details/ribbon-cutting-for-hillcrest-clinic-llc-06-28-2016-51233
END:VEVENT

END:VCALENDAR
