BEGIN:VCALENDAR
VERSION:2.0
PRODID:-//ChamberMaster//Event Calendar 2.0//EN
METHOD:PUBLISH
X-PUBLISHED-TTL:P3D
REFRESH-INTERVAL:P3D
CALSCALE:GREGORIAN
BEGIN:VEVENT
DTSTART:20170613T143000Z
DTEND:20170613T153000Z
X-MICROSOFT-CDO-ALLDAYEVENT:FALSE
SUMMARY:Ribbon Cutting for Home Sweet Home In-Home Pet Sitters
DESCRIPTION:Glenn and Patti Cousins\, owners of Home Sweet Home In-Home Pet Sitters are one of our newest businesses in Blairsville!  We're inviting everyone to come and meet them as we celebrate with a ribbon cutting at the Chamber offices.
X-ALT-DESC;FMTTYPE=text/html:Glenn and Patti Cousins\, owners of Home Sweet Home In-Home Pet Sitters are one of our newest businesses in Blairsville!&nbsp\; We&#39\;re inviting everyone to come and meet them as we celebrate with a ribbon cutting at the Chamber offices.&nbsp\;
LOCATION:Blairsville-Union County Chamber of Commerce 129 Union County Recreation Rd. Blairsville\, GA 30512
UID:e.256.70009
SEQUENCE:3
DTSTAMP:20260420T004624Z
URL:https://members.visitblairsvillega.com/events/details/ribbon-cutting-for-home-sweet-home-in-home-pet-sitters-70009
END:VEVENT

END:VCALENDAR
