BEGIN:VCALENDAR
VERSION:2.0
PRODID:-//ChamberMaster//Event Calendar 2.0//EN
METHOD:PUBLISH
X-PUBLISHED-TTL:P3D
REFRESH-INTERVAL:P3D
CALSCALE:GREGORIAN
BEGIN:VEVENT
DTSTART:20160812T180000Z
DTEND:20160812T190000Z
X-MICROSOFT-CDO-ALLDAYEVENT:FALSE
SUMMARY:Ribbon Cutting for Home Werks
DESCRIPTION:Time to have a ribbon cutting for one of our newer businesses\, Home Werks.  Come on out to meet owner Mark Siekmann and see some of his beautiful creations.  A business card drawing will be held and refreshments will be served.
X-ALT-DESC;FMTTYPE=text/html:Time to have a ribbon cutting for one of our newer businesses\, Home Werks.&nbsp\; Come on out to meet owner Mark Siekmann and see some of his beautiful creations.&nbsp\; A business card drawing will be held and refreshments will be served.
LOCATION:32-C Town Square Blairsville\, GA 30512
UID:e.256.53666
SEQUENCE:3
DTSTAMP:20260420T183909Z
URL:https://members.visitblairsvillega.com/events/details/ribbon-cutting-for-home-werks-08-12-2016-53666
END:VEVENT

END:VCALENDAR
