BEGIN:VCALENDAR
VERSION:2.0
PRODID:-//ChamberMaster//Event Calendar 2.0//EN
METHOD:PUBLISH
X-PUBLISHED-TTL:P3D
REFRESH-INTERVAL:P3D
CALSCALE:GREGORIAN
BEGIN:VEVENT
DTSTART:20160512T190000Z
DTEND:20160512T220000Z
X-MICROSOFT-CDO-ALLDAYEVENT:FALSE
SUMMARY:Ribbon Cutting for Homestead Hospice
DESCRIPTION:The Blairsville-Union County Chamber of Commerce is excited to announce that Homestead Hospice will be celebrating with an open house and ribbon cutting.  The festivities will include a cookout and a business card drawing for a surprise gift.
X-ALT-DESC;FMTTYPE=text/html:The Blairsville-Union County Chamber of Commerce is excited to announce that Homestead Hospice will be celebrating with&nbsp\;an open house and&nbsp\;ribbon cutting.&nbsp\; The festivities will&nbsp\;include a cookout and a business card drawing for a surprise gift.
LOCATION:Homestead Hospice 97 Deep South Farm Road Blairsville\, GA 30512
UID:e.256.50539
SEQUENCE:3
DTSTAMP:20260421T002836Z
URL:https://members.visitblairsvillega.com/events/details/ribbon-cutting-for-homestead-hospice-05-12-2016-50539
END:VEVENT

END:VCALENDAR
