BEGIN:VCALENDAR
VERSION:2.0
PRODID:-//ChamberMaster//Event Calendar 2.0//EN
METHOD:PUBLISH
X-PUBLISHED-TTL:P3D
REFRESH-INTERVAL:P3D
CALSCALE:GREGORIAN
BEGIN:VEVENT
DTSTART:20140828T153000Z
DTEND:20140828T163000Z
X-MICROSOFT-CDO-ALLDAYEVENT:FALSE
SUMMARY:Ribbon Cutting for Hometown Sign Company
DESCRIPTION:You're Invited!   Ribbon Cutting!\n\nRibbon Cutting for Hometown Sign Company on Thursday\, August 28th at 11:30am.\n\nHometown Sign Company is located at 307 Cleveland Street\, Suite E\, next door to Azzarello Photography Studio. Come out and meet owner Al Garcia.\n\nBring your business cards.\n\nFood & Door Prizes
X-ALT-DESC;FMTTYPE=text/html:<span style="font-size: 14px\;"><span style="font-family: tahoma\;">You&#39\;re Invited!&nbsp\;&nbsp\; Ribbon Cutting!</span><br />\nRibbon Cutting for Hometown Sign Company&nbsp\;on&nbsp\;<span style="font-family: tahoma\;">Thursday\, August 28<sup>th</sup> at 11:30am.</span><br />\nHometown Sign Company is&nbsp\;located&nbsp\;at 307 Cleveland Street\, Suite E\,&nbsp\;next door to <span style="font-family: tahoma\;">Azzarello Photography Studio. </span>Come out&nbsp\;and meet owner Al Garcia.<br />\nBring your business cards.<br />\nFood &amp\; Door Prizes<br />\n&nbsp\;</span>
LOCATION:Hometown Sign Company 307 Cleveland Street\, Suite E Blairsville
UID:e.256.25517
SEQUENCE:3
DTSTAMP:20260424T074152Z
URL:https://members.visitblairsvillega.com/events/details/ribbon-cutting-for-hometown-sign-company-08-28-2014-25517
END:VEVENT

END:VCALENDAR
