BEGIN:VCALENDAR
VERSION:2.0
PRODID:-//ChamberMaster//Event Calendar 2.0//EN
METHOD:PUBLISH
X-PUBLISHED-TTL:P3D
REFRESH-INTERVAL:P3D
CALSCALE:GREGORIAN
BEGIN:VEVENT
DTSTART:20170120T190000Z
DTEND:20170120T200000Z
X-MICROSOFT-CDO-ALLDAYEVENT:FALSE
SUMMARY:Ribbon Cutting for Hootie's Window Tinting
DESCRIPTION:Everyone is invited to the new location of Hootie's Window Tinting at 553 Blue Ridge Street.  Come on out to meet Bret "Hootie" Barnes and learn about the benefits of window tinting.  The Chamber will be hosting a ribbon cutting and refreshments will be served.
X-ALT-DESC;FMTTYPE=text/html:Everyone is invited to the new location&nbsp\;of Hootie&#39\;s Window Tinting at 553 Blue Ridge Street.&nbsp\; Come on out to meet Bret &quot\;Hootie&quot\; Barnes and learn about the benefits of window tinting.&nbsp\; The Chamber will be hosting a ribbon cutting and refreshments will be served.
LOCATION:553 Blue Ridge St. Blairsville\, GA 30512
UID:e.256.62162
SEQUENCE:3
DTSTAMP:20260420T075529Z
URL:https://members.visitblairsvillega.com/events/details/ribbon-cutting-for-hootie-s-window-tinting-62162
END:VEVENT

END:VCALENDAR
