BEGIN:VCALENDAR
VERSION:2.0
PRODID:-//ChamberMaster//Event Calendar 2.0//EN
METHOD:PUBLISH
X-PUBLISHED-TTL:P3D
REFRESH-INTERVAL:P3D
CALSCALE:GREGORIAN
BEGIN:VEVENT
DTSTART:20171016T170000Z
DTEND:20171016T180000Z
X-MICROSOFT-CDO-ALLDAYEVENT:FALSE
SUMMARY:Ribbon Cutting for Hope House
DESCRIPTION:A ribbon cutting celebration will be held for Hope House to showcase their new location. Hope House is a faith-based\, volunteer organization established to assist residents\, transients and homeless in critical need. Come meet the dedicated staff at this special event.  Everyone is invited to attend.
X-ALT-DESC;FMTTYPE=text/html:<span style="font-size:12pt\;"><span style="font-family:calibri light\,sans-serif\;">A ribbon cutting celebration will be held for <em>Hope House </em>to showcase their new location<em>. Hope House </em>is a faith-based\, volunteer organization established to assist residents\, transients and homeless in critical need. Come meet the dedicated staff at this special event.&nbsp\; Everyone is invited to attend.</span></span>
LOCATION:178 Brackett's Way\, Suite 8 Blairsville\, GA 30512
UID:e.256.75777
SEQUENCE:3
DTSTAMP:20260419T175513Z
URL:https://members.visitblairsvillega.com/events/details/ribbon-cutting-for-hope-house-75777
END:VEVENT

END:VCALENDAR
