BEGIN:VCALENDAR
VERSION:2.0
PRODID:-//ChamberMaster//Event Calendar 2.0//EN
METHOD:PUBLISH
X-PUBLISHED-TTL:P3D
REFRESH-INTERVAL:P3D
CALSCALE:GREGORIAN
BEGIN:VEVENT
DTSTART:20160630T150000Z
DTEND:20160630T160000Z
X-MICROSOFT-CDO-ALLDAYEVENT:FALSE
SUMMARY:Ribbon Cutting for Impact Design & Creations
DESCRIPTION:LuAnn Head-Dyer and her team invite the community to see their new business and be a part of a celebration with a ribbon cutting.  There will be a business card drawing for a gift certificate and refreshments will be served.
X-ALT-DESC;FMTTYPE=text/html:LuAnn Head-Dyer and her team invite the community to see their new business and be a part of a celebration with a ribbon cutting.&nbsp\; There will be a business card drawing for a gift certificate and refreshments will be served.
LOCATION:Impact Design & Creations 307 E Cleveland St Blairsville\, GA 30512
UID:e.256.51253
SEQUENCE:3
DTSTAMP:20260420T222649Z
URL:https://members.visitblairsvillega.com/events/details/ribbon-cutting-for-impact-design-creations-06-30-2016-51253
END:VEVENT

END:VCALENDAR
