BEGIN:VCALENDAR
VERSION:2.0
PRODID:-//ChamberMaster//Event Calendar 2.0//EN
METHOD:PUBLISH
X-PUBLISHED-TTL:P3D
REFRESH-INTERVAL:P3D
CALSCALE:GREGORIAN
BEGIN:VEVENT
DTSTART:20150811T180000Z
DTEND:20150811T190000Z
X-MICROSOFT-CDO-ALLDAYEVENT:FALSE
SUMMARY:Ribbon Cutting for In-Sister's Kitchen
DESCRIPTION:What's cookin' in the kitchen?  Come on out to In Sister's Kitchen and find out.  While you're there meet Chef Nancy as we celebrate with a ribbon cutting. Be sure to bring your business cards.  A raffle drawing for (4) wellness meals (certificate) will be won by some lucky person.
X-ALT-DESC;FMTTYPE=text/html:What&#39\;s cookin&#39\; in the kitchen?&nbsp\; Come on out to In Sister&#39\;s Kitchen and find out.&nbsp\; While you&#39\;re there meet Chef Nancy as we celebrate with a ribbon cutting.&nbsp\;Be sure to bring your business cards.&nbsp\; A raffle drawing for (4) wellness meals (certificate) will be won by some lucky person.&nbsp\;
LOCATION:102 Cleveland Street Blairsville\, Ga 30512
UID:e.256.40430
SEQUENCE:3
DTSTAMP:20260423T134155Z
URL:https://members.visitblairsvillega.com/events/details/ribbon-cutting-for-in-sister-s-kitchen-08-11-2015-40430
END:VEVENT

END:VCALENDAR
