BEGIN:VCALENDAR
VERSION:2.0
PRODID:-//ChamberMaster//Event Calendar 2.0//EN
METHOD:PUBLISH
X-PUBLISHED-TTL:P3D
REFRESH-INTERVAL:P3D
CALSCALE:GREGORIAN
BEGIN:VEVENT
DTSTART:20160531T180000Z
DTEND:20160531T190000Z
X-MICROSOFT-CDO-ALLDAYEVENT:FALSE
SUMMARY:Ribbon Cutting for Independent Fashion Consultant for LuLaRoe - Jennifer Grader
DESCRIPTION:Go fashion crazy with LuLaRoe!  Independent Fashion Consultant\, Jennifer Grader\, will be hosting at ribbon cutting to celebrate her retail business.
X-ALT-DESC;FMTTYPE=text/html:Go fashion crazy with LuLaRoe!&nbsp\; Independent Fashion Consultant\, Jennifer Grader\, will be hosting at ribbon cutting to celebrate her retail business.
LOCATION:Blairsville-Union County Chamber of Commerce 129 Union County Recreation Rd Blairsville\, GA 30512
UID:e.256.51027
SEQUENCE:3
DTSTAMP:20260420T223555Z
URL:https://members.visitblairsvillega.com/events/details/ribbon-cutting-for-independent-fashion-consultant-for-lularoe-jennifer-grader-05-31-2016-51027
END:VEVENT

END:VCALENDAR
