BEGIN:VCALENDAR
VERSION:2.0
PRODID:-//ChamberMaster//Event Calendar 2.0//EN
METHOD:PUBLISH
X-PUBLISHED-TTL:P3D
REFRESH-INTERVAL:P3D
CALSCALE:GREGORIAN
BEGIN:VEVENT
DTSTART:20160718T140000Z
DTEND:20160718T150000Z
X-MICROSOFT-CDO-ALLDAYEVENT:FALSE
SUMMARY:Ribbon Cutting for Inner Awakenings
DESCRIPTION:A ribbon cutting will be held at Inner Awakenings located at 1650 Tate Road in beautiful Blairsville.  Everyone is invited to come and meet owner\, Karen Wilkins\, and learn about the benefits and services available through her healing retreat facility.
X-ALT-DESC;FMTTYPE=text/html:A ribbon cutting will be held at Inner Awakenings located at 1650 Tate Road in beautiful Blairsville.&nbsp\; Everyone is invited to come and meet owner\, Karen Wilkins\, and learn about the benefits and services available through her healing retreat facility.
LOCATION:1650 Tate Road Blairsville\, GA 30512
UID:e.256.52987
SEQUENCE:3
DTSTAMP:20260420T184232Z
URL:https://members.visitblairsvillega.com/events/details/ribbon-cutting-for-inner-awakenings-07-18-2016-52987
END:VEVENT

END:VCALENDAR
