BEGIN:VCALENDAR
VERSION:2.0
PRODID:-//ChamberMaster//Event Calendar 2.0//EN
METHOD:PUBLISH
X-PUBLISHED-TTL:P3D
REFRESH-INTERVAL:P3D
CALSCALE:GREGORIAN
BEGIN:VEVENT
DTSTART:20140604T180000Z
DTEND:20140604T190000Z
X-MICROSOFT-CDO-ALLDAYEVENT:FALSE
SUMMARY:Ribbon Cutting for Inspire Art Studio
DESCRIPTION:Please join us for a ribbon cutting ceremony on Wednesday\, June 4th at 2:00pm for Inspire Art Studio\, located at 51 Earnest Street\, Suite C. Come meet Ellie Cowan\, Artist & Instructor and find out what Inspires You! Ellie offers Wine & Paint Parties\, Art Lessons\, Children's Classes\, Creative Workshops\, Girls' Night Out\, Date Night\, and Commissioned Portraits.\n\n1/2 Off First Class for ribbon cutting attendees!\n\nVisit her website: www.inspireartstudio.com  for more information.
X-ALT-DESC;FMTTYPE=text/html:Please join us for a ribbon cutting ceremony on Wednesday\, June 4th at 2:00pm for Inspire Art Studio\, located at 51 Earnest Street\, Suite C.&nbsp\;Come meet Ellie Cowan\, Artist &amp\; Instructor and find out what <em><strong>Inspires You!</strong></em> Ellie offers Wine &amp\; Paint&nbsp\;Parties\, Art Lessons\, Children&#39\;s Classes\, Creative Workshops\, Girls&#39\; Night Out\, Date Night\, and Commissioned Portraits.<br />\n1/2 Off First Class for ribbon cutting attendees!<br />\nVisit her website: <u><span style="color: rgb(0\, 0\, 255)\;">www.inspireartstudio.com&nbsp\; </span></u>for more information.
LOCATION:Inspire Art Studio 51 Earnest Street\, Suite C Blairsville
UID:e.256.24490
SEQUENCE:3
DTSTAMP:20260424T105153Z
URL:https://members.visitblairsvillega.com/events/details/ribbon-cutting-for-inspire-art-studio-06-04-2014-24490
END:VEVENT

END:VCALENDAR
