BEGIN:VCALENDAR
VERSION:2.0
PRODID:-//ChamberMaster//Event Calendar 2.0//EN
METHOD:PUBLISH
X-PUBLISHED-TTL:P3D
REFRESH-INTERVAL:P3D
CALSCALE:GREGORIAN
BEGIN:VEVENT
DTSTART:20140404T160000Z
DTEND:20140404T200000Z
X-MICROSOFT-CDO-ALLDAYEVENT:FALSE
SUMMARY:Ribbon Cutting for Jeff Davis State Farm
DESCRIPTION:Ribbon cutting and Open House on Friday\, April 4th. The ribbon cutting is scheduled  12:00pm - 1:00pm and Open House 12:00pm - 4:00pm. Stop by the office\, located at 211B Cleveland Street and meet Jeff and Kellie. Refreshments\, Door Prizes\, and Marketing Goodies!
X-ALT-DESC;FMTTYPE=text/html:Ribbon cutting and Open House on Friday\, April 4th.&nbsp\;The ribbon cutting is scheduled &nbsp\;12:00pm - 1:00pm and Open House 12:00pm - 4:00pm. Stop by the office\, located at 211B Cleveland Street and meet Jeff and Kellie. Refreshments\, Door Prizes\, and Marketing Goodies!
LOCATION:Jeff Davis State Farm 211 B Cleveland Street Blairsville
UID:e.256.23450
SEQUENCE:3
DTSTAMP:20260424T133534Z
URL:https://members.visitblairsvillega.com/events/details/ribbon-cutting-for-jeff-davis-state-farm-04-04-2014-23450
END:VEVENT

END:VCALENDAR
