BEGIN:VCALENDAR
VERSION:2.0
PRODID:-//ChamberMaster//Event Calendar 2.0//EN
METHOD:PUBLISH
X-PUBLISHED-TTL:P3D
REFRESH-INTERVAL:P3D
CALSCALE:GREGORIAN
BEGIN:VEVENT
DTSTART:20140425T200000Z
DTEND:20140425T210000Z
X-MICROSOFT-CDO-ALLDAYEVENT:FALSE
SUMMARY:Ribbon Cutting for Jerae's Unity Alpacas
DESCRIPTION:Ribbon Cutting on Friday\, April 25th at 4:00pm for Jerae's Unity Alpacas\, located at 1338 Henson Rd.
X-ALT-DESC;FMTTYPE=text/html:Ribbon Cutting on Friday\, April 25th at 4:00pm for Jerae&#39\;s Unity Alpacas\, located at 1338 Henson Rd.
LOCATION:Jerae's Unity Alpacas 1338 Henson Rd Blairsville
UID:e.256.23461
SEQUENCE:3
DTSTAMP:20260424T133314Z
URL:https://members.visitblairsvillega.com/events/details/ribbon-cutting-for-jerae-s-unity-alpacas-04-25-2014-23461
END:VEVENT

END:VCALENDAR
