BEGIN:VCALENDAR
VERSION:2.0
PRODID:-//ChamberMaster//Event Calendar 2.0//EN
METHOD:PUBLISH
X-PUBLISHED-TTL:P3D
REFRESH-INTERVAL:P3D
CALSCALE:GREGORIAN
BEGIN:VEVENT
DTSTART:20171007T180000Z
DTEND:20171007T190000Z
X-MICROSOFT-CDO-ALLDAYEVENT:FALSE
SUMMARY:Ribbon Cutting for Joshua Dream Ranch Corn Maze
DESCRIPTION:A ribbon cutting celebration will be held for the 1st Annual Joshua Dream Ranch Corn Maze on Saturday\, October 7 at 2:00 PM. The Joshua Dream Ranch has created three corn mazes for your fall fun each weekend in October: the Niblet maze for the little ones\; the Cob maze for the elementary kids\; and the Kernel for everyone else! Also enjoy hayrides\, pony rides\, an animal petting corner\, a pumpkin patch\, pumpkin painting\, face painting\, and snacks!
X-ALT-DESC;FMTTYPE=text/html:<span style="font-size:14px\;"><span calibri=""><span style="font-family:arial\;">A ribbon cutting celebration will be held for the 1st Annual Joshua Dream Ranch Corn Maze on Saturday\, October 7 at 2:00 PM.</span>&nbsp\;</span><span style="background-image:initial\;background-position:initial\;background-size:initial\;background-repeat:initial\;background-attachment:initial\;background-origin:initial\;background-clip:initial\;"><span style="color:#1d2129\;"><span style="font-family:helvetica\,sans-serif\;">The Joshua Dream Ranch has created three corn mazes for your fall fun </span></span></span><font color="#1d2129" face="Helvetica">each weekend in October</font><span style="background-image:initial\;background-position:initial\;background-size:initial\;background-repeat:initial\;background-attachment:initial\;background-origin:initial\;background-clip:initial\;"><span style="color:#1d2129\;"><span style="font-family:helvetica\,sans-serif\;">: the Niblet maze for the little ones\; the Cob maze for the elementary kids\; and the Kernel for everyone else! Also enjoy hayrides\, pony rides\, an animal petting corner\, a pumpkin patch\, pumpkin painting\, face painting\, and snacks!&nbsp\;</span></span></span></span>
LOCATION:Hwy 515/76 from Blairsville towards Young Harris -
UID:e.256.76091
SEQUENCE:3
DTSTAMP:20260419T175756Z
URL:https://members.visitblairsvillega.com/events/details/ribbon-cutting-for-joshua-dream-ranch-corn-maze-76091
END:VEVENT

END:VCALENDAR
