BEGIN:VCALENDAR
VERSION:2.0
PRODID:-//ChamberMaster//Event Calendar 2.0//EN
METHOD:PUBLISH
X-PUBLISHED-TTL:P3D
REFRESH-INTERVAL:P3D
CALSCALE:GREGORIAN
BEGIN:VEVENT
DTSTART:20160202T180000Z
DTEND:20160202T190000Z
X-MICROSOFT-CDO-ALLDAYEVENT:FALSE
SUMMARY:Ribbon Cutting for JR Travel Advisors
DESCRIPTION:JR Travel Advisors\, an independent agency in the Avoya Travel Network\, will be having a ribbon cutting.  Everyone is encourage to drop by and meet Jim Rozelle and find out more about his stress-free vacation planning.
X-ALT-DESC;FMTTYPE=text/html:JR Travel Advisors\, an independent agency in the Avoya Travel Network\, will be having a ribbon cutting.&nbsp\; Everyone is encourage to&nbsp\;drop by and meet Jim Rozelle and find out more about his stress-free vacation planning.&nbsp\;&nbsp\;&nbsp\;
LOCATION:Blairsville-Union County Chamber of Commerce 129 Union County Recreation Road Blairsville\, GA 30512
UID:e.256.48279
SEQUENCE:3
DTSTAMP:20260421T060250Z
URL:https://members.visitblairsvillega.com/events/details/ribbon-cutting-for-jr-travel-advisors-02-02-2016-48279
END:VEVENT

END:VCALENDAR
