BEGIN:VCALENDAR
VERSION:2.0
PRODID:-//ChamberMaster//Event Calendar 2.0//EN
METHOD:PUBLISH
X-PUBLISHED-TTL:P3D
REFRESH-INTERVAL:P3D
CALSCALE:GREGORIAN
BEGIN:VEVENT
DTSTART:20170724T140000Z
DTEND:20170724T150000Z
X-MICROSOFT-CDO-ALLDAYEVENT:FALSE
SUMMARY:Ribbon Cutting for Lake Chatuge Marine
DESCRIPTION:A ribbon cutting will be held at Lake Chatuge Marine with owner\, Dwayne Phillips.  Everyone is invited to come and see their line of boats\, supplies\, and equipment just in time for family fun in the sun!
X-ALT-DESC;FMTTYPE=text/html:A ribbon cutting will be held at Lake Chatuge Marine with owner\, Dwayne Phillips.&nbsp\; Everyone is invited to come and see their line of boats\, supplies\, and equipment just in time for family fun in the sun!
LOCATION:Lake Chatuge Marine 2300 Highway 76 Hiawassee\, GA 30546
UID:e.256.74186
SEQUENCE:3
DTSTAMP:20260419T230133Z
URL:https://members.visitblairsvillega.com/events/details/ribbon-cutting-for-lake-chatuge-marine-74186
END:VEVENT

END:VCALENDAR
