BEGIN:VCALENDAR
VERSION:2.0
PRODID:-//ChamberMaster//Event Calendar 2.0//EN
METHOD:PUBLISH
X-PUBLISHED-TTL:P3D
REFRESH-INTERVAL:P3D
CALSCALE:GREGORIAN
BEGIN:VEVENT
DTSTART:20170925T210000Z
DTEND:20170925T213000Z
X-MICROSOFT-CDO-ALLDAYEVENT:FALSE
SUMMARY:Ribbon Cutting for Lake Nottely Improvement Association
DESCRIPTION:A special ribbon cutting will be held for Lake Nottely Improvement Association.  They are celebrating their 26th anniversary of being a part of our community!  Everyone is welcome to come celebrate with them.
X-ALT-DESC;FMTTYPE=text/html:A special ribbon cutting will be held for&nbsp\;Lake Nottely Improvement Association.&nbsp\; They are celebrating <span style="margin: 0px\; font-family: &quot\;Calibri&quot\;\,sans-serif\; font-size: 11pt\;"><font color="#000000">their 26<sup>th</sup> anniversary of being a part of our community!&nbsp\; Everyone is welcome to come celebrate with them.</font></span>
LOCATION:North Georgia Technical College 121 Meeks Ave Blairsville\, GA 30512
UID:e.256.76089
SEQUENCE:3
DTSTAMP:20260419T175838Z
URL:https://members.visitblairsvillega.com/events/details/ribbon-cutting-for-lake-nottely-improvement-association-76089
END:VEVENT

END:VCALENDAR
