BEGIN:VCALENDAR
VERSION:2.0
PRODID:-//ChamberMaster//Event Calendar 2.0//EN
METHOD:PUBLISH
X-PUBLISHED-TTL:P3D
REFRESH-INTERVAL:P3D
CALSCALE:GREGORIAN
BEGIN:VEVENT
DTSTART:20151130T190000Z
DTEND:20151130T200000Z
X-MICROSOFT-CDO-ALLDAYEVENT:FALSE
SUMMARY:Ribbon Cutting for Laurel Mountain Cabins
DESCRIPTION:A ribbon cutting celebration will be taking place for Laurel Mountain Cabins on Monday\, November 30 at 2 p.m.  Please come and join us at the Union County Community Center to meet owners Don and Diane Robinson.
X-ALT-DESC;FMTTYPE=text/html:<div style="color: gray\;"><span style="color: rgb(0\, 0\, 0)\;">A ribbon cutting celebration will be taking place for Laurel Mountain Cabins on Monday\, November 30 at 2 p.m.&nbsp\; Please come and join us at the&nbsp\;Union County Community Center to meet owners Don and Diane Robinson.</span></div>\n
LOCATION:Blairsville-Union County Chamber of Commerce 129 Union County Recreation Road Blairsville\, GA 30512
UID:e.256.44352
SEQUENCE:3
DTSTAMP:20260423T085504Z
URL:https://members.visitblairsvillega.com/events/details/ribbon-cutting-for-laurel-mountain-cabins-11-30-2015-44352
END:VEVENT

END:VCALENDAR
