BEGIN:VCALENDAR
VERSION:2.0
PRODID:-//ChamberMaster//Event Calendar 2.0//EN
METHOD:PUBLISH
X-PUBLISHED-TTL:P3D
REFRESH-INTERVAL:P3D
CALSCALE:GREGORIAN
BEGIN:VEVENT
DTSTART:20170524T150000Z
DTEND:20170524T160000Z
X-MICROSOFT-CDO-ALLDAYEVENT:FALSE
SUMMARY:Ribbon Cutting for Legal Shield by Jerome & Pam Scruggs
DESCRIPTION:Everyone is invited to attend a ribbon cutting for Jerome & Pam Scruggs with Legal Shield.  The event will be held at the Blairsville-Union County Chamber of Commerce on Wednesday\, May 24 at 11 a.m.
X-ALT-DESC;FMTTYPE=text/html:Everyone is invited to attend a ribbon cutting for Jerome &amp\; Pam Scruggs with Legal Shield.&nbsp\; The event will be held at the Blairsville-Union County Chamber of Commerce on Wednesday\, May 24 at 11 a.m.&nbsp\;
LOCATION:Blairsville-Union County Chamber of Commerce 129 Union County Recreation Rd. Blairsville\, GA 30512
UID:e.256.72971
SEQUENCE:3
DTSTAMP:20260420T010534Z
URL:https://members.visitblairsvillega.com/events/details/ribbon-cutting-for-legal-shield-by-jerome-pam-scruggs-72971
END:VEVENT

END:VCALENDAR
