BEGIN:VCALENDAR
VERSION:2.0
PRODID:-//ChamberMaster//Event Calendar 2.0//EN
METHOD:PUBLISH
X-PUBLISHED-TTL:P3D
REFRESH-INTERVAL:P3D
CALSCALE:GREGORIAN
BEGIN:VEVENT
DTSTART:20160831T190000Z
DTEND:20160831T200000Z
X-MICROSOFT-CDO-ALLDAYEVENT:FALSE
SUMMARY:Ribbon Cutting for Linda Bowen-Hughes Coldwell Banker High Country Realty
DESCRIPTION:The Blairsville-Union County Chamber of Commerce is excited to be hosting a ribbon cutting for Linda Bowen-Hughes with Coldwell Banker/High Country Realty.  Everyone is invited to come and enjoy some refreshments and meet Linda.  A business card drawing will take place for a wonderful gift basket.
X-ALT-DESC;FMTTYPE=text/html:The Blairsville-Union County Chamber of Commerce is excited to be hosting a ribbon cutting for Linda Bowen-Hughes with Coldwell Banker/High Country Realty.&nbsp\; Everyone is invited to come and enjoy some refreshments and meet Linda.&nbsp\; A business card drawing will take place for a wonderful gift basket.
LOCATION:211A Cleveland Street Blairsville\, GA 30512
UID:e.256.53668
SEQUENCE:3
DTSTAMP:20260420T165625Z
URL:https://members.visitblairsvillega.com/events/details/ribbon-cutting-for-linda-bowen-hughes-coldwell-banker-high-country-realty-08-31-2016-53668
END:VEVENT

END:VCALENDAR
