BEGIN:VCALENDAR
VERSION:2.0
PRODID:-//ChamberMaster//Event Calendar 2.0//EN
METHOD:PUBLISH
X-PUBLISHED-TTL:P3D
REFRESH-INTERVAL:P3D
CALSCALE:GREGORIAN
BEGIN:VEVENT
DTSTART:20170922T150000Z
DTEND:20170922T160000Z
X-MICROSOFT-CDO-ALLDAYEVENT:FALSE
SUMMARY:Ribbon Cutting for Logan Turnpike Mill
DESCRIPTION:A ribbon cutting celebration will be held for the Logan Turnpike Mill. They have recently moved to a new location and would like everyone to join them in celebrating! Logan Turnpike Mill is a family run business and they have a variety of products including mixes and flour\, grits and porridge\, cornmeals\, and gift packages. Come out to congratulate them on their move!
X-ALT-DESC;FMTTYPE=text/html:<span style="font-size:medium\;"><span style="font-family:calibri\;">A ribbon cutting celebration will be held for the <em>Logan Turnpike Mill</em>. They have recently moved to a new location and would like everyone to join them in celebrating! Logan Turnpike Mill is a family run business and they have a variety of products including mixes and flour\, grits and porridge\, cornmeals\, and gift packages. Come out to congratulate them on their move!</span></span>
LOCATION:255 Beasley Street Blairsville\, GA 30512
UID:e.256.75352
SEQUENCE:3
DTSTAMP:20260419T175417Z
URL:https://members.visitblairsvillega.com/events/details/ribbon-cutting-for-logan-turnpike-mill-75352
END:VEVENT

END:VCALENDAR
