BEGIN:VCALENDAR
VERSION:2.0
PRODID:-//ChamberMaster//Event Calendar 2.0//EN
METHOD:PUBLISH
X-PUBLISHED-TTL:P3D
REFRESH-INTERVAL:P3D
CALSCALE:GREGORIAN
BEGIN:VEVENT
DTSTART:20160404T173000Z
DTEND:20160404T183000Z
X-MICROSOFT-CDO-ALLDAYEVENT:FALSE
SUMMARY:Ribbon Cutting for Lucky Cat Thrift Store
DESCRIPTION:The Whiskers Project\, a non-profit organization dedicated to spay/neutering of feral felines\, has opened the Lucky Cat Thrift Store located in Blairsville at 5933 Hwy. 515\, East.  This is a purrrfect time to celebrate their expansion with a ribbon cutting.
X-ALT-DESC;FMTTYPE=text/html:The Whiskers Project\, a non-profit organization dedicated to spay/neutering of feral felines\, has opened the Lucky Cat Thrift Store located in Blairsville at 5933 Hwy. 515\, East.&nbsp\; This is a <em>purrrfect</em> time to celebrate their expansion with a ribbon cutting.
LOCATION:5933 Hwy 515\, East Blairsville\, GA
UID:e.256.49606
SEQUENCE:3
DTSTAMP:20260421T002734Z
URL:https://members.visitblairsvillega.com/events/details/ribbon-cutting-for-lucky-cat-thrift-store-04-04-2016-49606
END:VEVENT

END:VCALENDAR
