BEGIN:VCALENDAR
VERSION:2.0
PRODID:-//ChamberMaster//Event Calendar 2.0//EN
METHOD:PUBLISH
X-PUBLISHED-TTL:P3D
REFRESH-INTERVAL:P3D
CALSCALE:GREGORIAN
BEGIN:VEVENT
DTSTART:20160419T180000Z
DTEND:20160419T190000Z
X-MICROSOFT-CDO-ALLDAYEVENT:FALSE
SUMMARY:Ribbon Cutting for Made With Love Marketplace
DESCRIPTION:The Blairsville-Union County Chamber of Commerce will be having a ribbon cutting for Made with Love Marketplace\, located just next door to Hayes Appliances.  Owner\, Angie Hayes\, is inviting everyone to drop on by for the celebration\, and everyone who attends will receive a coupon for a FREE monogram with purchase.
X-ALT-DESC;FMTTYPE=text/html:The Blairsville-Union County Chamber of Commerce will be having a ribbon cutting for Made with Love Marketplace\, located just next door to Hayes Appliances.&nbsp\; Owner\, Angie Hayes\, is inviting everyone to drop on by for the celebration\, and everyone who attends will receive a coupon for a FREE monogram with purchase.
LOCATION:32 B Young Harris Street Blairsville\, GA 30512
UID:e.256.48317
SEQUENCE:3
DTSTAMP:20260421T022526Z
URL:https://members.visitblairsvillega.com/events/details/ribbon-cutting-for-made-with-love-marketplace-04-19-2016-48317
END:VEVENT

END:VCALENDAR
