BEGIN:VCALENDAR
VERSION:2.0
PRODID:-//ChamberMaster//Event Calendar 2.0//EN
METHOD:PUBLISH
X-PUBLISHED-TTL:P3D
REFRESH-INTERVAL:P3D
CALSCALE:GREGORIAN
BEGIN:VEVENT
DTSTART:20160519T180000Z
DTEND:20160519T190000Z
X-MICROSOFT-CDO-ALLDAYEVENT:FALSE
SUMMARY:Ribbon Cutting for Magical Moments Vacations
DESCRIPTION:A fabulous ribbon cutting will be held for Lori Watson with Magical Moments Vacations. Everyone is invited to come and meet Lori and learn about her exciting travel business.
X-ALT-DESC;FMTTYPE=text/html:A fabulous ribbon cutting will be held for Lori Watson with Magical Moments Vacations.&nbsp\;Everyone is invited to come and meet Lori and learn about her exciting travel business.
LOCATION:Magical Moments Vacations 108 Blue Ridge Hwy\, Ste 9 Blairsville\, GA 30512
UID:e.256.50566
SEQUENCE:3
DTSTAMP:20260420T223034Z
URL:https://members.visitblairsvillega.com/events/details/ribbon-cutting-for-magical-moments-vacations-05-19-2016-50566
END:VEVENT

END:VCALENDAR
