BEGIN:VCALENDAR
VERSION:2.0
PRODID:-//ChamberMaster//Event Calendar 2.0//EN
METHOD:PUBLISH
X-PUBLISHED-TTL:P3D
REFRESH-INTERVAL:P3D
CALSCALE:GREGORIAN
BEGIN:VEVENT
DTSTART:20170308T160000Z
DTEND:20170308T163000Z
X-MICROSOFT-CDO-ALLDAYEVENT:FALSE
SUMMARY:Ribbon Cutting for Mark's Superior Painting & Pressure Cleaning\, LLC
DESCRIPTION:Everyone is invited to attend a ribbon cutting for Mark's Superior Painting and Press Cleaning.  The event will be held at the Chamber offices and refreshments will be served.  Come on out and meet Mark Nickerson and find out what superior is all about!
X-ALT-DESC;FMTTYPE=text/html:Everyone is invited to attend a ribbon cutting for Mark&#39\;s Superior Painting and Press Cleaning.&nbsp\; The event will be held at the Chamber offices and refreshments will be served.&nbsp\; Come on out and meet Mark Nickerson and find out what superior is all about!
LOCATION:Blairsville-Union County Chamber of Commerce 129 Union County Recreation Rd. Blairsville\, GA 30512
UID:e.256.65474
SEQUENCE:3
DTSTAMP:20260420T061602Z
URL:https://members.visitblairsvillega.com/events/details/ribbon-cutting-for-mark-s-superior-painting-pressure-cleaning-llc-65474
END:VEVENT

END:VCALENDAR
