BEGIN:VCALENDAR
VERSION:2.0
PRODID:-//ChamberMaster//Event Calendar 2.0//EN
METHOD:PUBLISH
X-PUBLISHED-TTL:P3D
REFRESH-INTERVAL:P3D
CALSCALE:GREGORIAN
BEGIN:VEVENT
DTSTART:20171113T160000Z
DTEND:20171113T170000Z
X-MICROSOFT-CDO-ALLDAYEVENT:FALSE
SUMMARY:Ribbon Cutting for McDowall Acres
DESCRIPTION:A ribbon cutting celebration will be held for McDowall Acres. McDowall Acres is a rustic wedding and event venue with some of the most breath-taking views nature can provide. This family farm can provide the perfect backdrop for your special day. Come see the 109 private acres in the beautiful North Georgia Mountains.  Everyone is invited to this special event.
X-ALT-DESC;FMTTYPE=text/html:<span style="font-size:12pt\;"><span style="font-family:calibri light\,sans-serif\;">A ribbon cutting celebration will be held for <em>McDowall Acres</em>. <em>McDowall Acres</em> is a rustic wedding and event venue with some of the most breath-taking views nature can provide.&nbsp\;This family farm can provide the perfect backdrop for your special day. Come see the 109 private acres in the beautiful North Georgia Mountains.&nbsp\; Everyone is invited to this special event.</span></span>
LOCATION:1848 Rich Gap Road Blairsville\, GA 30512
UID:e.256.75776
SEQUENCE:3
DTSTAMP:20260419T155910Z
URL:https://members.visitblairsvillega.com/events/details/ribbon-cutting-for-mcdowall-acres-75776
END:VEVENT

END:VCALENDAR
