BEGIN:VCALENDAR
VERSION:2.0
PRODID:-//ChamberMaster//Event Calendar 2.0//EN
METHOD:PUBLISH
X-PUBLISHED-TTL:P3D
REFRESH-INTERVAL:P3D
CALSCALE:GREGORIAN
BEGIN:VEVENT
DTSTART:20150612T170000Z
DTEND:20150612T180000Z
X-MICROSOFT-CDO-ALLDAYEVENT:FALSE
SUMMARY:Ribbon Cutting for Miller Well Drilling
DESCRIPTION:Everyone is welcome to attend the Miller Well Drilling ribbon cutting.  Come on out and meet the crew!
X-ALT-DESC;FMTTYPE=text/html:Everyone is welcome to attend the Miller Well Drilling ribbon cutting.&nbsp\; Come on out and meet the crew!
LOCATION:Blairsville-Union County Chamber of Commerce 129 Union County Recreation Road Blairsville\, GA 30512
UID:e.256.40153
SEQUENCE:3
DTSTAMP:20260423T165723Z
URL:https://members.visitblairsvillega.com/events/details/ribbon-cutting-for-miller-well-drilling-06-12-2015-40153
END:VEVENT

END:VCALENDAR
