BEGIN:VCALENDAR
VERSION:2.0
PRODID:-//ChamberMaster//Event Calendar 2.0//EN
METHOD:PUBLISH
X-PUBLISHED-TTL:P3D
REFRESH-INTERVAL:P3D
CALSCALE:GREGORIAN
BEGIN:VEVENT
DTSTART:20170531T180000Z
DTEND:20170531T190000Z
X-MICROSOFT-CDO-ALLDAYEVENT:FALSE
SUMMARY:Ribbon Cutting for Mountain Home Health Services
DESCRIPTION:Mountain Home Health Services\, previously Appalachian Home Health Care\, has a new name and new owners\, but the same great caring staff!  To celebrate this exciting news\, the Chamber will be hosting a ribbon cutting on Wednesday\, May 31 at 2 p.m.  The celebration will take place at 136 Hospital Dr.\, Ste. B.
X-ALT-DESC;FMTTYPE=text/html:Mountain Home Health Services\, previously Appalachian Home Health Care\, has a new name and new owners\, but the same great caring staff!&nbsp\; To celebrate this exciting news\, the Chamber will be hosting a ribbon cutting on Wednesday\, May 31 at 2 p.m.&nbsp\; The celebration will take place at 136 Hospital Dr.\, Ste. B.
LOCATION:Mountain Home Health Services 136 Hospital Dr.\, Ste. B Blairsville\, GA 30512
UID:e.256.72972
SEQUENCE:3
DTSTAMP:20260420T010439Z
URL:https://members.visitblairsvillega.com/events/details/ribbon-cutting-for-mountain-home-health-services-72972
END:VEVENT

END:VCALENDAR
