BEGIN:VCALENDAR
VERSION:2.0
PRODID:-//ChamberMaster//Event Calendar 2.0//EN
METHOD:PUBLISH
X-PUBLISHED-TTL:P3D
REFRESH-INTERVAL:P3D
CALSCALE:GREGORIAN
BEGIN:VEVENT
DTSTART:20140611T153000Z
DTEND:20140611T163000Z
X-MICROSOFT-CDO-ALLDAYEVENT:FALSE
SUMMARY:Ribbon Cutting for Mountain Hope Pottery & Sculpture
DESCRIPTION:Please join us for a ribbon cutting ceremony on Wednesday\, June 11 at 11:30am  for Mountain Hope Pottery & Sculpture. Come out and meet Angie Herndon. "I watched in amazement as my grandmother created pottery in her little shop. Today\, I use her same potter's wheel and kiln to create pottery of my own\, as well as hand formed sculptural pieces."\n\nwww.mountainhopepottery.com\n\ndirections: From town\n\nTake 129S\n\nLeft at 180E\n\nAfter approx 1 mile and past Richard Russell Hwy\, turn right onto Wolfstake Rd.\n\nAfter approx 1 mile\, turn right onto Horseshoe Cove Rd (gravel).\n\nStay straight. Park alongside 2nd pond.\n\nLook for the signs at every turn.
X-ALT-DESC;FMTTYPE=text/html:<strong>Please join us for a ribbon cutting ceremony on&nbsp\;</strong><strong><span trebuchet=""><strong><span trebuchet="">Wednesday\,&nbsp\;June 11&nbsp\;at 11:30am&nbsp\;</span></strong><span style="color: black\;">&nbsp\;for </span></span>Mountain Hope Pottery &amp\; Sculpture. </strong>Come out and meet&nbsp\;Angie Herndon.&nbsp\;&quot\;I watched in amazement as my grandmother created pottery in her little shop. Today\, I use her same potter&rsquo\;s wheel and kiln to create pottery of my own\, as well as hand formed sculptural pieces.&quot\;<br />\n<u><span style="color: rgb(0\, 0\, 255)\;">www.mountainhopepottery.com</span></u><br />\n<strong><span trebuchet=""><span style="color: black\;">directions:&nbsp\;</span></span></strong><span style="font-size: 12px\;"><span style="font-family: verdana\;">From town<br />\nTake 129S<br />\nLeft at 180E<br />\nAfter approx 1 mile and past Richard Russell Hwy\, turn right onto Wolfstake Rd.<br />\nAfter approx 1 mile\, turn right onto Horseshoe Cove Rd (gravel).<br />\nStay straight. Park alongside 2nd pond.<br />\nLook for the signs at every turn.<br />\n&nbsp\;<br />\n&nbsp\;</span></span>
LOCATION:From town: 129S Left at 180E After approx 1 mile and past Richard Russell Hwy\, turn right onto Wolfstake Rd. After approx 1 mile\, turn right onto Horseshoe Cove Rd (gravel). Stay straight. Park alongside 2nd pond. Look for the signs at every turn.
UID:e.256.24489
SEQUENCE:3
DTSTAMP:20260424T105358Z
URL:https://members.visitblairsvillega.com/events/details/ribbon-cutting-for-mountain-hope-pottery-sculpture-06-11-2014-24489
END:VEVENT

END:VCALENDAR
