BEGIN:VCALENDAR
VERSION:2.0
PRODID:-//ChamberMaster//Event Calendar 2.0//EN
METHOD:PUBLISH
X-PUBLISHED-TTL:P3D
REFRESH-INTERVAL:P3D
CALSCALE:GREGORIAN
BEGIN:VEVENT
DTSTART:20160421T150000Z
DTEND:20160421T160000Z
X-MICROSOFT-CDO-ALLDAYEVENT:FALSE
SUMMARY:Ribbon Cutting for Mountain Realty
DESCRIPTION:The Blairsville-Union County Chamber of Commerce\, in conjunction with the Towns County Chamber of Commerce\, will be hosting a ribbon cutting for Mountain Realty.  Everyone is invited to come meet the team and visit their wonderful location as they celebrate 45 years of serving North Georgia and Western North Carolina.
X-ALT-DESC;FMTTYPE=text/html:The Blairsville-Union County Chamber of Commerce\, in conjunction with the Towns County Chamber of Commerce\, will be hosting a ribbon cutting for Mountain Realty.&nbsp\; Everyone is invited to come meet the&nbsp\;team and visit their&nbsp\;wonderful location as they celebrate 45 years of serving North Georgia and Western North Carolina.
LOCATION:325 N. Main Street Hiawassee\, GA 30546
UID:e.256.50908
SEQUENCE:3
DTSTAMP:20260421T021918Z
URL:https://members.visitblairsvillega.com/events/details/ribbon-cutting-for-mountain-realty-04-21-2016-50908
END:VEVENT

END:VCALENDAR
