BEGIN:VCALENDAR
VERSION:2.0
PRODID:-//ChamberMaster//Event Calendar 2.0//EN
METHOD:PUBLISH
X-PUBLISHED-TTL:P3D
REFRESH-INTERVAL:P3D
CALSCALE:GREGORIAN
BEGIN:VEVENT
DTSTART:20170607T150000Z
DTEND:20170607T160000Z
X-MICROSOFT-CDO-ALLDAYEVENT:FALSE
SUMMARY:Ribbon Cutting for Mountain Top Furniture & Decor
DESCRIPTION:Everyone is invited to come and see the new expansion at Mountain Top Furniture.  Come to meet Brad and his team and check out the latest in furnishings and accessories for your home\, cabin\, or office.
X-ALT-DESC;FMTTYPE=text/html:Everyone is invited to come and see the new expansion at Mountain Top Furniture.&nbsp\; Come to meet Brad and his team and check out the latest in furnishings and accessories for your home\, cabin\, or office.
LOCATION:3733 Murphy Highway Blairsville\, GA 30512
UID:e.256.73858
SEQUENCE:3
DTSTAMP:20260419T233405Z
URL:https://members.visitblairsvillega.com/events/details/ribbon-cutting-for-mountain-top-furniture-decor-73858
END:VEVENT

END:VCALENDAR
